Workbook

Sheet 2022-2023
A1: JUMLAH SISWA TAHUN PELAJARAN 2022/2023
A3: Nama Madrasah | C3: : MSI 05 Sampangan
A4: NSM | C4: : 111233750013
A5: NPSN | C5: : 60713950
A6: Alamat | C6: : Jl. Hasanudin, Sampangan Gg. 8a No. 3 Pekalongan
A8: KELAS | D8: JML | F8: Kelas 1 | H8: JML | J8: Kelas 2 A | L8: JML | N8: Kelas 2 B | P8: JML | R8: Kelas 3 | T8: JML
B9: L | C9: P | F9: L | G9: P | J9: L | K9: P | N9: L | O9: P | R9: L | S9: P
D10: =SUM(B10:C10) -> 0 | F10: 15 | G10: 13 | H10: =SUM(F10:G10) -> 28 | J10: 8 | K10: 12 | L10: =SUM(J10:K10) -> 20 | N10: 9 | O10: 10 | P10: =SUM(N10:O10) -> 19 | R10: 18 | S10: 8 | T10: =SUM(R10:S10) -> 26
A12: KELAS | B12: Kelas 4 A | D12: JML | F12: Kelas 4 B | H12: JML | J12: Kelas 5 | L12: JML | N12: Kelas 6 A | P12: JML | R12: Kelas 6 B | T12: JML
B13: L | C13: P | F13: L | G13: P | J13: L | K13: P | N13: L | O13: P | R13: L | S13: P
B14: 14 | C14: 12 | D14: =SUM(B14:C14) -> 26 | F14: 11 | G14: 13 | H14: =SUM(F14:G14) -> 24 | J14: 14 | K14: 15 | L14: =SUM(J14:K14) -> 29 | N14: 6 | O14: 13 | P14: =SUM(N14:O14) -> 19 | R14: 9 | S14: 12 | T14: =SUM(R14:S14) -> 21
A16: JML ROMBEL | B16: KELAS | I16: JML | N16: Pekalongan, 17 Januari 2022
B17: I | C17: II | D17: III | E17: IV | G17: V | H17: VI | N17: Kepala
B18: 1 | C18: 2 | D18: 1 | E18: 2 | G18: 1 | H18: 2 | I18: =SUM(B18:H18) -> 9
A20: TOTAL JML SISWA | B20: =D10+H10+L10+P10+T10+D14+H14+L14+P14+T14 -> 212 | F20: KELAS 1 | H20: JML | J20: KELAS 2 | L20: JML | N20: KELAS 3 | P20: JML | R20: KELAS 4 | T20: JML
F21: L | G21: P | J21: L | K21: P | N21: L | O21: P | R21: L | S21: P | X21: =O10+S10 -> 18
F22: =F10 -> 15 | G22: =G10 -> 13 | H22: =SUM(F22:G22) -> 28 | J22: =J10+N10 -> 17 | K22: =K10+O10 -> 22 | L22: =SUM(J22:K22) -> 39 | N22: =R10 -> 18 | O22: =S10 -> 8 | P22: =SUM(N22:O22) -> 26 | R22: =B14+F14 -> 25 | S22: =C14+G14 -> 25 | T22: =SUM(R22:S22) -> 50
F24: KELAS 5 | H24: JML | J24: KELAS 6 | L24: JML | P24: =H22+L22+P22+T22+H26+L26 -> 212
F25: L | G25: P | J25: L | K25: P
F26: =J14 -> 14 | G26: =K14 -> 15 | H26: =SUM(F26:G26) -> 29 | J26: =N14+R14 -> 15 | K26: =O14+S14 -> 25 | L26: =SUM(J26:K26) -> 40

Sheet 2023-2024
A1: JUMLAH SISWA TAHUN PELAJARAN 2023/2024
A3: Nama Madrasah | C3: : MSI 05 Sampangan
A4: NSM | C4: : 111233750013
A5: NPSN | C5: : 60713950
A6: Alamat | C6: : Jl. Hasanudin, Sampangan Gg. 8a No. 3 Pekalongan
A8: KELAS | B8: Kelas 1A | D8: JML | F8: Kelas 1B | H8: JML | J8: Kelas 2 | L8: JML | N8: Kelas 3A | P8: JML | R8: Kelas 3B | T8: JML
B9: L | C9: P | F9: L | G9: P | J9: L | K9: P | N9: L | O9: P | R9: L | S9: P
B10: 10 | C10: 9 | D10: =SUM(B10:C10) -> 19 | F10: 9 | G10: 9 | H10: =SUM(F10:G10) -> 18 | J10: 16 | K10: 12 | L10: =SUM(J10:K10) -> 28 | N10: 9 | O10: 11 | P10: =SUM(N10:O10) -> 20 | R10: 8 | S10: 12 | T10: =SUM(R10:S10) -> 20
A12: KELAS | B12: Kelas 4 | D12: JML | F12: Kelas 5 A | H12: JML | J12: Kelas 5 B | L12: JML | N12: Kelas 6 | P12: JML
B13: L | C13: P | F13: L | G13: P | J13: L | K13: P | N13: L | O13: P
B14: 8 | C14: 18 | D14: =SUM(B14:C14) -> 26 | F14: 15 | G14: 11 | H14: =SUM(F14:G14) -> 26 | J14: 12 | K14: 11 | L14: =SUM(J14:K14) -> 23 | N14: 14 | O14: 14 | P14: =SUM(N14:O14) -> 28
A16: JML ROMBEL | B16: KELAS | I16: JML | N16: L/P | O16: JML
B17: I | C17: II | D17: III | E17: IV | G17: V | H17: VI | N17: L | O17: =F22+J22+N22+R22+F26+J26 -> 101
B18: 2 | C18: 1 | D18: 2 | E18: 1 | G18: 2 | H18: 1 | I18: =SUM(B18:H18) -> 9 | N18: P | O18: 108
A20: TOTAL JML SISWA | B20: =D10+H10+L10+P10+T10+D14+H14+L14+P14+T14 -> 208 | F20: KELAS 1 | H20: JML | J20: KELAS 2 | L20: JML | N20: KELAS 3 | P20: JML | R20: KELAS 4 | T20: JML
F21: L | G21: P | J21: L | K21: P | N21: L | O21: P | R21: L | S21: P | X21: =O10+S10 -> 23
F22: =B10+F10 -> 19 | G22: =C10+G10 -> 18 | H22: =SUM(F22:G22) -> 37 | J22: =J10 -> 16 | K22: =K10 -> 12 | L22: =SUM(J22:K22) -> 28 | N22: =N10+R10 -> 17 | O22: =O10+S10 -> 23 | P22: =SUM(N22:O22) -> 40 | R22: =B14 -> 8 | S22: =C14 -> 18 | T22: =SUM(R22:S22) -> 26
F24: KELAS 5 | H24: JML | J24: KELAS 6 | L24: JML | P24: =H22+L22+P22+T22+H26+L26 -> 208
F25: L | G25: P | J25: L | K25: P
F26: =F14+J14 -> 27 | G26: =G14+K14 -> 22 | H26: =SUM(F26:G26) -> 49 | J26: =N14 -> 14 | K26: =O14 -> 14 | L26: =SUM(J26:K26) -> 28

Sheet 2024-2025
A1: JUMLAH SISWA TAHUN PELAJARAN 2024/2025
A3: Nama Madrasah | C3: : MSI 05 Sampangan
A4: NSM | C4: : 111233750013
A5: NPSN | C5: : 60713950
A6: Alamat | C6: : Jl. Hasanudin, Sampangan Gg. 8a No. 3 Pekalongan
A8: KELAS | B8: Kelas 1A | D8: JML | F8: Kelas 1B | H8: JML | J8: Kelas 2 | L8: JML | N8: Kelas 3 | P8: JML | R8: Kelas 4a | T8: JML
B9: L | C9: P | F9: L | G9: P | J9: L | K9: P | N9: L | O9: P | R9: L | S9: P
B10: 10 | C10: 14 | D10: =SUM(B10:C10) -> 24 | F10: 14 | G10: 10 | H10: =SUM(F10:G10) -> 24 | J10: 18 | K10: 20 | L10: =SUM(J10:K10) -> 38 | N10: 14 | O10: 13 | P10: =SUM(N10:O10) -> 27 | R10: 7 | S10: 13 | T10: =SUM(R10:S10) -> 20
A12: KELAS | B12: Kelas 4b | D12: JML | F12: Kelas 5 | H12: JML | J12: Kelas 6 a | L12: JML | N12: Kelas 6 b | P12: JML
B13: L | C13: P | F13: L | G13: P | J13: L | K13: P | N13: L | O13: P
B14: 8 | C14: 11 | D14: =SUM(B14:C14) -> 19 | F14: 18 | G14: 7 | H14: =SUM(F14:G14) -> 25 | J14: 14 | K14: 12 | L14: =SUM(J14:K14) -> 26 | N14: 12 | O14: 11 | P14: =SUM(N14:O14) -> 23
A16: JML ROMBEL | B16: KELAS | I16: JML | N16: L/P | O16: JML
B17: I | C17: II | D17: III | E17: IV | G17: V | H17: VI | N17: L | O17: =F22+J22+N22+R22+F26+J26 -> 115 | R17: =O17+O18 -> 226
B18: 2 | C18: 1 | D18: 1 | E18: 2 | G18: 1 | H18: 2 | I18: =SUM(B18:H18) -> 9 | N18: P | O18: =G22+K22+O22+S22+G26+K26 -> 111
A20: TOTAL JML SISWA | B20: =D10+H10+L10+P10+T10+D14+H14+L14+P14+T14 -> 226 | F20: KELAS 1 | H20: JML | J20: KELAS 2 | L20: JML | N20: KELAS 3 | P20: JML | R20: KELAS 4 | T20: JML
F21: L | G21: P | J21: L | K21: P | N21: L | O21: P | R21: L | S21: P | X21: =O10+S10 -> 26
F22: =B10+F10 -> 24 | G22: =C10+G10 -> 24 | H22: =SUM(F22:G22) -> 48 | J22: =J10 -> 18 | K22: =K10 -> 20 | L22: =SUM(J22:K22) -> 38 | N22: =N10 -> 14 | O22: =O10 -> 13 | P22: =SUM(N22:O22) -> 27 | R22: =R10+B14 -> 15 | S22: =S10+C14 -> 24 | T22: =SUM(R22:S22) -> 39
F24: KELAS 5 | H24: JML | J24: KELAS 6 | L24: JML | P24: =H22+L22+P22+T22+H26+L26 -> 226
F25: L | G25: P | J25: L | K25: P
F26: =F14 -> 18 | G26: =G14 -> 7 | H26: =SUM(F26:G26) -> 25 | J26: =J14+N14 -> 26 | K26: =K14+O14 -> 23 | L26: =SUM(J26:K26) -> 49

Sheet 2025-2026
A1: JUMLAH SISWA TAHUN PELAJARAN 2025-2026
A3: Nama Madrasah | C3: : MSI 05 Sampangan
A4: NSM | C4: : 111233750013
A5: NPSN | C5: : 60713950
A6: Alamat | C6: : Jl. Hasanudin, Sampangan Gg. 8a No. 3 Pekalongan
A8: KELAS | B8: Kelas 1 | D8: JML | F8: Kelas 2A | H8: JML | J8: Kelas 2B | L8: JML | N8: Kelas 3A | P8: JML | R8: Kelas 3B | T8: JML
B9: L | C9: P | F9: L | G9: P | J9: L | K9: P | N9: L | O9: P | R9: L | S9: P
B10: 22 | C10: 9 | D10: =SUM(B10:C10) -> 31 | F10: 8 | G10: 13 | H10: =SUM(F10:G10) -> 21 | J10: 14 | K10: 10 | L10: =SUM(J10:K10) -> 24 | N10: 9 | O10: 10 | P10: =SUM(N10:O10) -> 19 | R10: 9 | S10: 11 | T10: =SUM(R10:S10) -> 20
A12: KELAS | B12: Kelas 4 | D12: JML | F12: Kelas 5 A | H12: JML | J12: Kelas 5B | L12: JML | N12: Kelas 6 | P12: JML
B13: L | C13: P | F13: L | G13: P | J13: L | K13: P | N13: L | O13: P
B14: 13 | C14: 12 | D14: =SUM(B14:C14) -> 25 | F14: 7 | G14: 12 | H14: =SUM(F14:G14) -> 19 | J14: 9 | K14: 11 | L14: =SUM(J14:K14) -> 20 | N14: 18 | O14: 7 | P14: =SUM(N14:O14) -> 25
A16: JML ROMBEL | B16: KELAS | I16: JML | N16: L/P | O16: JML
B17: I | C17: II | D17: III | E17: IV | G17: V | H17: VI | N17: L | O17: =F22+J22+N22+R22+F26+J26 -> 109 | R17: =O17+O18 -> 204
B18: 1 | C18: 2 | D18: 2 | E18: 1 | G18: 2 | H18: 1 | I18: =SUM(B18:H18) -> 9 | N18: P | O18: =G22+K22+O22+S22+G26+K26 -> 95
A20: TOTAL JML SISWA | B20: =D10+H10+L10+P10+T10+D14+H14+L14+P14+T14 -> 204 | F20: KELAS 1 | H20: JML | J20: KELAS 2 | L20: JML | N20: KELAS 3 | P20: JML | R20: KELAS 4 | T20: JML
F21: L | G21: P | J21: L | K21: P | N21: L | O21: P | R21: L | S21: P
F22: =B10 -> 22 | G22: =C10 -> 9 | H22: =SUM(F22:G22) -> 31 | J22: =F10+J10 -> 22 | K22: =G10+K10 -> 23 | L22: =SUM(J22:K22) -> 45 | N22: =N10+R10 -> 18 | O22: =O10+S10 -> 21 | P22: =SUM(N22:O22) -> 39 | R22: =B14 -> 13 | S22: =C14 -> 12 | T22: =SUM(R22:S22) -> 25
F24: KELAS 5 | H24: JML | J24: KELAS 6 | L24: JML | P24: =H22+L22+P22+T22+H26+L26 -> 204
F25: L | G25: P | J25: L | K25: P
F26: =F14+J14 -> 16 | G26: =G14+K14 -> 23 | H26: =SUM(F26:G26) -> 39 | J26: =N14 -> 18 | K26: =O14 -> 7 | L26: =SUM(J26:K26) -> 25

Sheet Sheet1
A1: DATA SISWA TAHUN PELAJARAN 2022 / 2023
A2: MADRASAH : MSI 05 SAMPANGAN
A4: KELAS | B4: JML ROMBEL | C4: JML SISWA | E4: JML TOTAL
C5: L | D5: P
A6: I | B6: 1 | C6: ='2022-2023'!F22 -> 15 | D6: ='2022-2023'!G22 -> 13 | E6: =C6+D6 -> 28
A7: II | B7: 2 | C7: ='2022-2023'!J22 -> 17 | D7: ='2022-2023'!K22 -> 22 | E7: =C7+D7 -> 39
A8: III | B8: 1 | C8: ='2022-2023'!N22 -> 18 | D8: ='2022-2023'!O22 -> 8 | E8: =C8+D8 -> 26
A9: IV | B9: 2 | C9: ='2022-2023'!R22 -> 25 | D9: ='2022-2023'!S22 -> 25 | E9: =C9+D9 -> 50
A10: V | B10: 1 | C10: ='2022-2023'!F26 -> 14 | D10: ='2022-2023'!G26 -> 15 | E10: =C10+D10 -> 29
A11: VI | B11: 2 | C11: ='2022-2023'!J26 -> 15 | D11: ='2022-2023'!K26 -> 25 | E11: =C11+D11 -> 40
A13: JUMLAH | B13: =SUM(B6:B11) -> 9 | C13: =SUM(C6:C11) -> 104 | D13: =SUM(D6:D11) -> 108 | E13: =C13+D13 -> 212
